BEGIN:VCALENDAR
VERSION:2.0
PRODID:-//ChamberMaster//Event Calendar 2.0//EN
METHOD:PUBLISH
X-PUBLISHED-TTL:P3D
REFRESH-INTERVAL:P3D
CALSCALE:GREGORIAN
BEGIN:VEVENT
DTSTART:20150910T113000Z
DTEND:20150910T123000Z
X-MICROSOFT-CDO-ALLDAYEVENT:FALSE
SUMMARY:Christians In Business
DESCRIPTION:"The Spiritual Realm"\n\nWe have an unseen source of power that can help us exist in the physical world - tap into Him each day
X-ALT-DESC;FMTTYPE=text/html:&quot\;The Spiritual Realm&quot\;<br />\nWe have an unseen source of power that can help us exist in the physical world - tap into Him each day
LOCATION:Downtown Perk and Dessert Oasis 145 W. Main Street\, Ashland
UID:e.1651.273
SEQUENCE:3
DTSTAMP:20260421T111722Z
URL:https://members.ashlandoh.com/events/details/christians-in-business-09-10-2015-273
END:VEVENT

END:VCALENDAR
