BEGIN:VCALENDAR
VERSION:2.0
PRODID:-//ChamberMaster//Event Calendar 2.0//EN
METHOD:PUBLISH
X-PUBLISHED-TTL:P3D
REFRESH-INTERVAL:P3D
CALSCALE:GREGORIAN
BEGIN:VEVENT
DTSTART:20130912T113000Z
DTEND:20130912T123000Z
X-MICROSOFT-CDO-ALLDAYEVENT:FALSE
SUMMARY:Christians In Business
DESCRIPTION:Free to Stand - Examine your armor - beginning with a solid spiritual foundation increases your chances of success!
X-ALT-DESC;FMTTYPE=text/html:<strong><span style="color:#800000\;">Free to Stand - Examine your armor - beginning with a solid spiritual foundation increases your chances of success!</span></strong><br />\n
LOCATION:Downtown Perk and Dessert Oasis 145 W. Main Street\, Ashland
UID:e.1651.249
SEQUENCE:3
DTSTAMP:20260423T052605Z
URL:https://members.ashlandoh.com/events/details/christians-in-business-09-12-2013-249
END:VEVENT

END:VCALENDAR
