BEGIN:VCALENDAR
VERSION:2.0
PRODID:-//ChamberMaster//Event Calendar 2.0//EN
METHOD:PUBLISH
X-PUBLISHED-TTL:P3D
REFRESH-INTERVAL:P3D
CALSCALE:GREGORIAN
BEGIN:VEVENT
DTSTART:20151008T113000Z
DTEND:20151008T123000Z
X-MICROSOFT-CDO-ALLDAYEVENT:FALSE
SUMMARY:Christians In Business
DESCRIPTION:"The First Requirement of Ministry"\n\nIdentifying what breaks the heart of God and acting on it for the good
X-ALT-DESC;FMTTYPE=text/html:&quot\;The First Requirement of Ministry&quot\;<br />\nIdentifying what breaks the heart of God and acting on it for the good
LOCATION:Downtown Perk and Dessert Oasis 145 W. Main Street\, Ashland
UID:e.1651.274
SEQUENCE:3
DTSTAMP:20260421T111715Z
URL:https://members.ashlandoh.com/events/details/christians-in-business-10-08-2015-274
END:VEVENT

END:VCALENDAR
