BEGIN:VCALENDAR
VERSION:2.0
PRODID:-//ChamberMaster//Event Calendar 2.0//EN
METHOD:PUBLISH
X-PUBLISHED-TTL:P3D
REFRESH-INTERVAL:P3D
CALSCALE:GREGORIAN
BEGIN:VEVENT
DTSTART:20131010T113000Z
DTEND:20131010T123000Z
X-MICROSOFT-CDO-ALLDAYEVENT:FALSE
SUMMARY:Christians In Business
DESCRIPTION:Mustard Seed Faith - God sets the state to allow His power to be revealed for those willing to exercise the faith of a mustard seed.
X-ALT-DESC;FMTTYPE=text/html:<strong><span style="color:#800000\;">Mustard Seed Faith - God sets the state to allow His power to be revealed for those willing to exercise the faith of a mustard seed.</span></strong><br />\n
LOCATION:Downtown Perk and Dessert Oasis 145 W. Main Street\, Ashland
UID:e.1651.250
SEQUENCE:3
DTSTAMP:20260423T033248Z
URL:https://members.ashlandoh.com/events/details/christians-in-business-10-10-2013-250
END:VEVENT

END:VCALENDAR
