BEGIN:VCALENDAR
VERSION:2.0
PRODID:-//ChamberMaster//Event Calendar 2.0//EN
METHOD:PUBLISH
X-PUBLISHED-TTL:P3D
REFRESH-INTERVAL:P3D
CALSCALE:GREGORIAN
BEGIN:VEVENT
DTSTART:20161013T113000Z
DTEND:20161013T123000Z
X-MICROSOFT-CDO-ALLDAYEVENT:FALSE
SUMMARY:Christians In Business
DESCRIPTION:EMBRACING THE DESERT\n\nAllowing God to use every aspect of your life\, even the solitude\, for something extraordinary.
X-ALT-DESC;FMTTYPE=text/html:<strong>EMBRACING THE DESERT</strong><br />\nAllowing God to use every aspect of your life\, even the solitude\, for something extraordinary.
LOCATION:Downtown Perk and Dessert Oasis 145 W. Main Street\, Ashland
UID:e.1651.286
SEQUENCE:3
DTSTAMP:20260420T135058Z
URL:https://members.ashlandoh.com/events/details/christians-in-business-10-13-2016-286
END:VEVENT

END:VCALENDAR
