BEGIN:VCALENDAR
VERSION:2.0
PRODID:-//ChamberMaster//Event Calendar 2.0//EN
METHOD:PUBLISH
X-PUBLISHED-TTL:P3D
REFRESH-INTERVAL:P3D
CALSCALE:GREGORIAN
BEGIN:VEVENT
DTSTART:20161110T123000Z
DTEND:20161110T133000Z
X-MICROSOFT-CDO-ALLDAYEVENT:FALSE
SUMMARY:Christians In Business
DESCRIPTION:TURNING FRUSTRATION INTO FULFILLMENT\n\nDon't be caught up in the cycle of money\, prestige\, and peer pressure. Significance comes from God\, not man.
X-ALT-DESC;FMTTYPE=text/html:<strong>TURNING FRUSTRATION INTO FULFILLMENT</strong><br />\nDon&#39\;t be caught up in the cycle of money\, prestige\, and peer pressure. Significance comes from God\, not man.
LOCATION:Downtown Perk and Dessert Oasis 145 W. Main Street\, Ashland
UID:e.1651.287
SEQUENCE:3
DTSTAMP:20260420T122735Z
URL:https://members.ashlandoh.com/events/details/christians-in-business-11-10-2016-287
END:VEVENT

END:VCALENDAR
