BEGIN:VCALENDAR
VERSION:2.0
PRODID:-//ChamberMaster//Event Calendar 2.0//EN
METHOD:PUBLISH
X-PUBLISHED-TTL:P3D
REFRESH-INTERVAL:P3D
CALSCALE:GREGORIAN
BEGIN:VEVENT
DTSTART:20151112T123000Z
DTEND:20151112T133000Z
X-MICROSOFT-CDO-ALLDAYEVENT:FALSE
SUMMARY:Christians In Business
DESCRIPTION:"A Remnant That Prays"\n\nUnderstanding that prayer is a vital strategic tool to discern and know God's will and purpose in our work lives
X-ALT-DESC;FMTTYPE=text/html:&quot\;A Remnant That Prays&quot\;<br />\nUnderstanding that prayer is a vital strategic tool to discern and know God&#39\;s will and purpose in our work lives
LOCATION:Downtown Perk and Dessert Oasis 145 W. Main Street\, Ashland
UID:e.1651.275
SEQUENCE:3
DTSTAMP:20260421T072718Z
URL:https://members.ashlandoh.com/events/details/christians-in-business-11-12-2015-275
END:VEVENT

END:VCALENDAR
