BEGIN:VCALENDAR
VERSION:2.0
PRODID:-//ChamberMaster//Event Calendar 2.0//EN
METHOD:PUBLISH
X-PUBLISHED-TTL:P3D
REFRESH-INTERVAL:P3D
CALSCALE:GREGORIAN
BEGIN:VEVENT
DTSTART:20151210T123000Z
DTEND:20151210T133000Z
X-MICROSOFT-CDO-ALLDAYEVENT:FALSE
SUMMARY:Christians In Business
DESCRIPTION:"Empty Mangers"\n\nGod works among the messy things in our lives\, and from these messes come an abundant harvest
X-ALT-DESC;FMTTYPE=text/html:&quot\;Empty Mangers&quot\;<br />\nGod works among the messy things in our lives\, and from these messes come an abundant harvest
LOCATION:Downtown Perk and Dessert Oasis 145 W. Main Street\, Ashland
UID:e.1651.276
SEQUENCE:3
DTSTAMP:20260421T075318Z
URL:https://members.ashlandoh.com/events/details/christians-in-business-12-10-2015-276
END:VEVENT

END:VCALENDAR
