BEGIN:VCALENDAR
VERSION:2.0
PRODID:-//ChamberMaster//Event Calendar 2.0//EN
METHOD:PUBLISH
X-PUBLISHED-TTL:P3D
REFRESH-INTERVAL:P3D
CALSCALE:GREGORIAN
BEGIN:VEVENT
DTSTART:20131212T123000Z
DTEND:20131212T133000Z
X-MICROSOFT-CDO-ALLDAYEVENT:FALSE
SUMMARY:Christians In Business
DESCRIPTION:Striving Versus Abiding - God's desire is for each of us to see Him working in our daily work life.
X-ALT-DESC;FMTTYPE=text/html:<strong><span style="color:#800000\;">Striving Versus Abiding - God&#39\;s desire is for each of us to see Him working in our daily work life.</span></strong><br />\n
LOCATION:Downtown Perk and Dessert Oasis 145 W. Main Street\, Ashland
UID:e.1651.252
SEQUENCE:3
DTSTAMP:20260422T225109Z
URL:https://members.ashlandoh.com/events/details/christians-in-business-12-12-2013-252
END:VEVENT

END:VCALENDAR
