BEGIN:VCALENDAR
VERSION:2.0
PRODID:-//ChamberMaster//Event Calendar 2.0//EN
METHOD:PUBLISH
X-PUBLISHED-TTL:P3D
REFRESH-INTERVAL:P3D
CALSCALE:GREGORIAN
BEGIN:VEVENT
DTSTART:20150312T113000Z
DTEND:20150312T123000Z
X-MICROSOFT-CDO-ALLDAYEVENT:FALSE
SUMMARY:Christians In Business - 3-12-15
DESCRIPTION:"Wrestling With God"\n\nHave you ever wished you could have the desires of your heart but you feel deep down something was always opposing you?
X-ALT-DESC;FMTTYPE=text/html:<strong>&quot\;Wrestling With God&quot\;</strong><br />\nHave you ever wished you could have the desires of your heart but you feel deep down something was always opposing you?
LOCATION:Downtown Perk and Dessert Oasis 145 W. Main Street\, Ashland
UID:e.1651.267
SEQUENCE:3
DTSTAMP:20260421T215152Z
URL:https://members.ashlandoh.com/events/details/christians-in-business-3-12-15-03-12-2015-267
END:VEVENT

END:VCALENDAR
