BEGIN:VCALENDAR
VERSION:2.0
PRODID:-//ChamberMaster//Event Calendar 2.0//EN
METHOD:PUBLISH
X-PUBLISHED-TTL:P3D
REFRESH-INTERVAL:P3D
CALSCALE:GREGORIAN
BEGIN:VEVENT
DTSTART:20150409T113000Z
DTEND:20150409T123000Z
X-MICROSOFT-CDO-ALLDAYEVENT:FALSE
SUMMARY:Christians In Business - 4-9-15
DESCRIPTION:"The Art of Unselfish Living"\n\nForgiving and forgetting through grace
X-ALT-DESC;FMTTYPE=text/html:<strong>&quot\;The Art of Unselfish Living&quot\;</strong><br />\nForgiving and forgetting through grace
LOCATION:Downtown Perk and Dessert Oasis 145 W. Main Street\, Ashland
UID:e.1651.268
SEQUENCE:3
DTSTAMP:20260421T214930Z
URL:https://members.ashlandoh.com/events/details/christians-in-business-4-9-15-04-09-2015-268
END:VEVENT

END:VCALENDAR
