BEGIN:VCALENDAR
VERSION:2.0
PRODID:-//ChamberMaster//Event Calendar 2.0//EN
METHOD:PUBLISH
X-PUBLISHED-TTL:P3D
REFRESH-INTERVAL:P3D
CALSCALE:GREGORIAN
BEGIN:VEVENT
DTSTART:20150514T113000Z
DTEND:20150514T123000Z
X-MICROSOFT-CDO-ALLDAYEVENT:FALSE
SUMMARY:Christians In Business - 5-14-15
DESCRIPTION:"Remaining Vertical With God"\n\nHow to avoid the temptation of responding horizontally each time trials come into your life
X-ALT-DESC;FMTTYPE=text/html:<strong>&quot\;Remaining Vertical With God&quot\;</strong><br />\nHow to avoid the temptation of responding horizontally each time trials come into your life
LOCATION:Downtown Perk and Dessert Oasis 145 W. Main Street\, Ashland
UID:e.1651.269
SEQUENCE:3
DTSTAMP:20260421T182323Z
URL:https://members.ashlandoh.com/events/details/christians-in-business-5-14-15-05-14-2015-269
END:VEVENT

END:VCALENDAR
