BEGIN:VCALENDAR
VERSION:2.0
PRODID:-//ChamberMaster//Event Calendar 2.0//EN
METHOD:PUBLISH
X-PUBLISHED-TTL:P3D
REFRESH-INTERVAL:P3D
CALSCALE:GREGORIAN
BEGIN:VEVENT
DTSTART:20160609T113000Z
DTEND:20160609T123000Z
X-MICROSOFT-CDO-ALLDAYEVENT:FALSE
SUMMARY:Christians In Business 6-9-16 "Trusting God"
DESCRIPTION:OUR JUNE MEETING IS ON!!\n\nDon't miss out on this opportunity to get spiritually refreshed for the summer season.\n\n\n\nTOPIC: TRUSTING GOD\n\nLead by Denis Lange\, Lange Design\n\nDate: Thursday\, June 9\, 2016\n\nTime: 7:30 - 8:30 am\n\nPlace: Downtown Perk
X-ALT-DESC;FMTTYPE=text/html:<strong><span style="color:#0000CD\;"><span style="font-size: 22px\;">OUR JUNE MEETING IS ON!!</span></span><br />\nDon&#39\;t miss out on this opportunity to get spiritually refreshed for the summer season.<br />\n<br />\n<span style="color:#0000CD\;">TOPIC: TRUSTING GOD</span></strong><br />\n<em>Lead by Denis Lange\, Lange Design</em><br />\nDate: Thursday\, June 9\, 2016<br />\nTime: 7:30 - 8:30 am<br />\nPlace: Downtown Perk
LOCATION:Downtown Perk and Dessert Oasis 145 W. Main Street\, Ashland
UID:e.1651.282
SEQUENCE:3
DTSTAMP:20260420T191322Z
URL:https://members.ashlandoh.com/events/details/christians-in-business-6-9-16-trusting-god-06-09-2016-282
END:VEVENT

END:VCALENDAR
