BEGIN:VCALENDAR
VERSION:2.0
PRODID:-//ChamberMaster//Event Calendar 2.0//EN
METHOD:PUBLISH
X-PUBLISHED-TTL:P3D
REFRESH-INTERVAL:P3D
CALSCALE:GREGORIAN
BEGIN:VEVENT
DTSTART:20170209T123000Z
DTEND:20170209T133000Z
X-MICROSOFT-CDO-ALLDAYEVENT:FALSE
SUMMARY:Christians in Business - February 9\, 2017
DESCRIPTION:"The Skillful Worker" \n\nTaken from Today God is First - Os Hillman\n\nDate: Feb. 9\, 2017\n\nTime: 7:30 - 8:30 am\n\nPlace: Downtown Perk & Dessert Oasis\n\n          145 W Main St.\, Ashland OH\n\n\n\nTo view a complete schedule of meetings for 2017 \n\nCLICK HERE!
X-ALT-DESC;FMTTYPE=text/html:<span style="color:#0000CD\;"><span style="font-size: 22px\;">&quot\;The Skillful Worker&quot\; </span></span><br />\n<em>Taken from Today God is First - Os Hillman</em><br />\n<strong>Date:</strong> Feb. 9\, 2017<br />\n<strong>Time: </strong>7:30 - 8:30 am<br />\n<strong>Place:</strong> Downtown Perk &amp\; Dessert Oasis<br />\n&nbsp\;&nbsp\;&nbsp\;&nbsp\;&nbsp\;&nbsp\;&nbsp\;&nbsp\;&nbsp\; 145 W Main St.\, Ashland OH<br />\n<br />\n<strong><span style="color:#0000CD\;"><em>To view a complete schedule of meetings for 2017 </em></span></strong><br />\n<strong><a href="https://chambermaster.blob.core.windows.net/userfiles/UserFiles/chambers/1651/File/Connection_Groups/ChristiansinBusinessMtgsSchedule2017.pdf" target="_blank"><span style="color:#000080\;">CLICK HERE!</span></a></strong><br />\n&nbsp\;
LOCATION:Downtown Perk & Dessert Oasis 145 W Main St. Ashland OH 44805
UID:e.1651.4236
SEQUENCE:3
DTSTAMP:20260420T053520Z
URL:https://members.ashlandoh.com/events/details/christians-in-business-february-9-2017-4236
END:VEVENT

END:VCALENDAR
