BEGIN:VCALENDAR
VERSION:2.0
PRODID:-//ChamberMaster//Event Calendar 2.0//EN
METHOD:PUBLISH
X-PUBLISHED-TTL:P3D
REFRESH-INTERVAL:P3D
CALSCALE:GREGORIAN
BEGIN:VEVENT
DTSTART:20171214T123000Z
DTEND:20171214T133000Z
X-MICROSOFT-CDO-ALLDAYEVENT:FALSE
SUMMARY:Christians in Business - No Meeting In December
DESCRIPTION:No Meeting in December!\n\n\n\nHave a wonderful Christmas. See you in January of 2018
X-ALT-DESC;FMTTYPE=text/html:<span style="color:#B22222\;"><span style="font-size: 16px\;"><strong>No Meeting in December!</strong></span></span><br />\n<br />\nHave a wonderful Christmas. See you in January of 2018
LOCATION:
UID:e.1651.4258
SEQUENCE:3
DTSTAMP:20260419T121729Z
URL:https://members.ashlandoh.com/events/details/christians-in-business-no-meeting-in-december-4258
END:VEVENT

END:VCALENDAR
