BEGIN:VCALENDAR
VERSION:2.0
PRODID:-//ChamberMaster//Event Calendar 2.0//EN
METHOD:PUBLISH
X-PUBLISHED-TTL:P3D
REFRESH-INTERVAL:P3D
CALSCALE:GREGORIAN
BEGIN:VEVENT
DTSTART;VALUE=DATE:20170713
DTEND;VALUE=DATE:20170714
TRANSP:TRANSPARENT
X-MICROSOFT-CDO-ALLDAYEVENT:TRUE
SUMMARY:Christians In Business - No Meetings in June\, July\, August
DESCRIPTION:No meetings during the month of June\, July and August\n\n\n\nSee you on September 14\, 2017
X-ALT-DESC;FMTTYPE=text/html:<span style="color:#B22222\;"><span style="font-size: 14px\;"><strong>No meetings during the month of June\, July and August</strong></span></span><br />\n<br />\nSee you on September 14\, 2017
LOCATION:
UID:e.1651.4253
SEQUENCE:3
DTSTAMP:20260419T210035Z
URL:https://members.ashlandoh.com/events/details/christians-in-business-no-meeting-in-june-4253
END:VEVENT

END:VCALENDAR
