BEGIN:VCALENDAR
VERSION:2.0
PRODID:-//ChamberMaster//Event Calendar 2.0//EN
METHOD:PUBLISH
X-PUBLISHED-TTL:P3D
REFRESH-INTERVAL:P3D
CALSCALE:GREGORIAN
BEGIN:VEVENT
DTSTART:20171109T123000Z
DTEND:20171109T133000Z
X-MICROSOFT-CDO-ALLDAYEVENT:FALSE
SUMMARY:Christians in Business - Nov 9\, 2017
DESCRIPTION:"Recognizing Our Source" \n\nTaken from Today God is First - Os Hillman\n\nDate: Nov. 9\, 2017\n\nTime: 7:30 - 8:30 am\n\nPlace: Downtown Perk & Dessert Oasis\n\n          145 W Main St.\, Ashland OH\n\n\n\nThere will be NO meeting in December. See you in January of 2018!
X-ALT-DESC;FMTTYPE=text/html:<span style="color:#0000CD\;"><span style="font-size: 22px\;">&quot\;Recognizing Our Source&quot\; </span></span><br />\n<em>Taken from Today God is First - Os Hillman</em><br />\n<strong>Date:</strong> Nov. 9\, 2017<br />\n<strong>Time: </strong>7:30 - 8:30 am<br />\n<strong>Place:</strong> Downtown Perk &amp\; Dessert Oasis<br />\n&nbsp\;&nbsp\;&nbsp\;&nbsp\;&nbsp\;&nbsp\;&nbsp\;&nbsp\;&nbsp\; 145 W Main St.\, Ashland OH<br />\n<br />\n<span style="color:#B22222\;"><strong><em>There will be NO meeting in December. See you in January of 2018!</em></strong></span><br />\n&nbsp\;
LOCATION:Downtown Perk & Dessert Oasis 145 W Main St. Ashland OH 44805
UID:e.1651.4257
SEQUENCE:3
DTSTAMP:20260419T153503Z
URL:https://members.ashlandoh.com/events/details/christians-in-business-nov-9-2017-4257
END:VEVENT

END:VCALENDAR
