BEGIN:VCALENDAR
VERSION:2.0
PRODID:-//ChamberMaster//Event Calendar 2.0//EN
METHOD:PUBLISH
X-PUBLISHED-TTL:P3D
REFRESH-INTERVAL:P3D
CALSCALE:GREGORIAN
BEGIN:VEVENT
DTSTART:20160203T230000Z
DTEND:20160204T000000Z
X-MICROSOFT-CDO-ALLDAYEVENT:FALSE
SUMMARY:Collette Dessert & Details
DESCRIPTION:British Landscapes  Trip Date: THIS FALL - September 14-24\, 2016\n\n10 Days - 13 meals 2 nights in exciting Longs\, Regal Edinburgh and historic Stratford-upon-Avon allows time to immerse yourself in each of these cities.\n\n\n	Day 1: Overnight flight\n	Day 2: London\, England - Tour begins\n	Day 3: London\n	Day 4\; London - Cambridge - York\n	Day 5: York - Border Region - Edinburgh\, Scotland\n	Day 6: Edinburgh\n	Day 7: Edinburgh- Lake District - England/Wales\n	Day 8: Wales - Stratford -upon Avon\n	Day 9: Stratford - Stonehedge - Cotswolds - Stratford\n	Day 10: Stratford-upon-Avon - Tour ends.\n\n\nTrip Locations: United Kingdom: London\, Cambridge\, York\, Edinburgh\, Scotland\, Wales\, Stratford\, Stonehedge\, Cotswolds
X-ALT-DESC;FMTTYPE=text/html:<h2 style="font-style:italic\;">British Landscapes&nbsp\; Trip Date: THIS FALL - September 14-24\, 2016</h2>\n\n<p>10 Days - 13 meals 2 nights in exciting Longs\, Regal Edinburgh and historic Stratford-upon-Avon allows time to immerse yourself in each of these cities.</p>\n\n<ul>\n	<li>Day 1: Overnight flight</li>\n	<li>Day 2: London\, England - Tour begins</li>\n	<li>Day 3: London</li>\n	<li>Day 4\; London - Cambridge - York</li>\n	<li>Day 5: York - Border Region - Edinburgh\, Scotland</li>\n	<li>Day 6: Edinburgh</li>\n	<li>Day 7: Edinburgh- Lake District - England/Wales</li>\n	<li>Day 8: Wales - Stratford -upon Avon</li>\n	<li>Day 9: Stratford - Stonehedge - Cotswolds - Stratford</li>\n	<li>Day 10: Stratford-upon-Avon - Tour ends.</li>\n</ul>\n\n<p><strong>Trip Locations: </strong>United Kingdom: London\, Cambridge\, York\, Edinburgh\, Scotland\, Wales\, Stratford\, Stonehedge\, Cotswolds</p>\n
LOCATION:Dessert & Details Location: Chamber Office 211 Claremont
UID:e.1651.2496
SEQUENCE:3
DTSTAMP:20260421T035946Z
URL:https://members.ashlandoh.com/events/details/collette-dessert-details-02-03-2016-2496
END:VEVENT

END:VCALENDAR
