BEGIN:VCALENDAR
VERSION:2.0
PRODID:-//ChamberMaster//Event Calendar 2.0//EN
METHOD:PUBLISH
X-PUBLISHED-TTL:P3D
REFRESH-INTERVAL:P3D
CALSCALE:GREGORIAN
BEGIN:VEVENT
DTSTART:20150120T140000Z
DTEND:20150120T170000Z
X-MICROSOFT-CDO-ALLDAYEVENT:FALSE
SUMMARY:Colonial Life Session
DESCRIPTION:NEW MEMBER BENEFIT PROGRAM - VOLUNTARY BENEFITS\n\n   What:    Colonial Life Informational\n\n                Session with CEUs\n\n   Who:     Insurance Brokers  \n\n                must be member of the\n\n                Ashland Chamber\n\n   Topic:   "Flexible Benefits" Program\n\n                through Colonial Life and the\n\n                Chamber\n\n   Date:    Tuesday\, January 20\, 2015\n\n   Time:    9:00 am   12:00 noon\n\n   Place:   Ohio Department of Transportation\n\n                - District Three Office\n\n                - 906 Clark Ave.\, Ashland\n\n   Cost:    Free   Registration required
X-ALT-DESC;FMTTYPE=text/html:<div style="color: gray\;"><strong><span style="color:#000000\;">NEW MEMBER BENEFIT PROGRAM - VOLUNTARY BENEFITS</span></strong><br />\n<span style="font-size:10px\;"><span style="font-family: arial\;"><em><span style="color: windowtext\;"><strong>&nbsp\;&nbsp\;<span style="font-size:11px\;"> What:&nbsp\; &nbsp\; Colonial Life Informational<br />\n&nbsp\;&nbsp\;&nbsp\;&nbsp\;&nbsp\;&nbsp\;&nbsp\;&nbsp\;&nbsp\;&nbsp\;&nbsp\;&nbsp\;&nbsp\; &nbsp\; Session with CEUs</span></strong></span></em><br />\n<span style="font-size:11px\;"><strong><em><span style="color: windowtext\;">&nbsp\;&nbsp\; Who: &nbsp\; &nbsp\; Insurance Brokers &ndash\;<br />\n&nbsp\;&nbsp\;&nbsp\;&nbsp\;&nbsp\;&nbsp\;&nbsp\;&nbsp\;&nbsp\;&nbsp\;&nbsp\;&nbsp\;&nbsp\;&nbsp\;&nbsp\; must be member of the<br />\n&nbsp\;&nbsp\;&nbsp\;&nbsp\;&nbsp\;&nbsp\;&nbsp\;&nbsp\;&nbsp\;&nbsp\;&nbsp\;&nbsp\;&nbsp\;&nbsp\;&nbsp\; Ashland Chamber</span></em><br />\n<em><span style="color: windowtext\;">&nbsp\;&nbsp\; Topic:&nbsp\;&nbsp\; &ldquo\;Flexible Benefits&rdquo\; Program<br />\n&nbsp\;&nbsp\;&nbsp\;&nbsp\;&nbsp\;&nbsp\;&nbsp\;&nbsp\;&nbsp\;&nbsp\; &nbsp\; &nbsp\;&nbsp\; through Colonial Life and the<br />\n&nbsp\;&nbsp\;&nbsp\;&nbsp\;&nbsp\;&nbsp\;&nbsp\;&nbsp\;&nbsp\; &nbsp\; &nbsp\; &nbsp\; Chamber</span></em><br />\n<em><span style="color: windowtext\;">&nbsp\;&nbsp\; Date:&nbsp\;&nbsp\;&nbsp\; </span></em><span style="color: rgb(0\, 0\, 0)\;"><em>Tuesday\, January 20\, 2015</em></span><br />\n<em><span style="color: windowtext\;">&nbsp\;&nbsp\; Time: &nbsp\;&nbsp\; </span></em><span style="color: rgb(0\, 0\, 0)\;"><em>9:00 am &ndash\; 12:00 noon</em></span><br />\n<em><span style="color: windowtext\;">&nbsp\;&nbsp\; Place:&nbsp\;&nbsp\; </span><span style="color: rgb(0\, 0\, 0)\;">Ohio Department of Transportation<br />\n&nbsp\;&nbsp\;&nbsp\;&nbsp\;&nbsp\;&nbsp\;&nbsp\;&nbsp\;&nbsp\;&nbsp\;&nbsp\;&nbsp\;&nbsp\;&nbsp\;&nbsp\; - District Three Office<br />\n&nbsp\;&nbsp\;&nbsp\;&nbsp\;&nbsp\;&nbsp\;&nbsp\;&nbsp\;&nbsp\;&nbsp\; &nbsp\; &nbsp\;&nbsp\; - 906 Clark Ave.\, Ashland</span></em><br />\n<em><span style="color: windowtext\;">&nbsp\;&nbsp\; Cost:&nbsp\;&nbsp\;&nbsp\; Free &ndash\; Registration required </span></em></strong></span></span></span></div>\n
LOCATION:ODOT - Ashland 906 Clark Ave.\, Ashland OH 44805
UID:e.1651.1642
SEQUENCE:3
DTSTAMP:20260422T011349Z
URL:https://members.ashlandoh.com/events/details/colonial-life-session-01-20-2015-1642
END:VEVENT

END:VCALENDAR
