BEGIN:VCALENDAR
VERSION:2.0
PRODID:-//ChamberMaster//Event Calendar 2.0//EN
METHOD:PUBLISH
X-PUBLISHED-TTL:P3D
REFRESH-INTERVAL:P3D
CALSCALE:GREGORIAN
BEGIN:VEVENT
DTSTART:20160503T153000Z
DTEND:20160503T170000Z
X-MICROSOFT-CDO-ALLDAYEVENT:FALSE
SUMMARY:Conflict Resolution Workshop 5-3-16 LA & SC
DESCRIPTION:CONFLICT RESOLUTION\n\nSpeaker: Tom Brohm\, The SourceOne Group\n\n   \n\nIn the Conflict Resolution workshop\, participants will learn crucial conflict management skills\, including dealing with anger and using the Agreement Frame. Dealing with conflict is important for every organization no matter what the size. If it is left unchecked or not resolved it can lead to lost production\, absences\, attrition\, and even law suits.\n\n\n\nWorkshop Objectives\n\n\n	Understand what conflict and conflict resolution mean\n	Understand all six phases of the conflict resolution process\n	Understand the five main styles of conflict resolution\n	Be able to adapt the process for all types of conflicts\n	Be able to break out parts of the process and use those tools to prevent conflict\n	Be able to use basic communication tools\, such as the agreement frame and open questions\n	Be able to use basic anger and stress management techniques\n\nCLICK HERE TO VIEW THE EVENT FLYER \n\nAlumni portion - Sponsored by: Brethren Care Village and Ashland Chiropractic Center\n\nIF YOU ARE AN ALUMNI AND WANT TO REGISTER\, PLEASE CONTACT THE CHAMBER OFFICE AND THEY WILL ADD YOU IN AT THE DISCOUNT PRICE!\n\n---------------------------------------------------------------------------------------\n\nSAFETY COUNCIL MEETING PORTION - Sponsored by the Ashland Area Safety Council \n\nThis new Lunch & Learn series\, made up of one-hour workshops\, is for anyone who works with people in any capacity. Our goal is to offer continuing leadership development for our Leadership Ashland alumni while also inviting those who may not be alumni to engage in their own professional development. Workshops will be offered throughout the year.
X-ALT-DESC;FMTTYPE=text/html:<span style="font-size:20px\;"><span style="color: rgb(0\, 0\, 205)\;"><strong>CONFLICT RESOLUTION</strong></span></span>\n\n<hr /><em><span style="font-family: comic sans ms\;">Speaker: Tom Brohm\, The SourceOne Group</span></em><br />\n<strong><span style="font-size:11px\;"><span style="font-size:8px\;">&nbsp\;&nbsp\; </span></span></strong><br />\n<span style="font-size:11px\;">In the </span><strong><span style="font-size:11px\;"><span style="color:#800000\;"><u>Conflict Resolution</u></span> </span></strong><span style="font-size:11px\;">workshop\, participants will learn crucial conflict management skills\, including dealing with anger and using the Agreement Frame. Dealing with conflict is important for every organization no matter what the size. If it is left unchecked or not resolved it can lead to lost production\, absences\, attrition\, and even law suits.</span><br />\n<br />\n<span style="font-size:12px\;"><strong><span style="color:#0000CD\;">Workshop Objectives</span></strong></span>\n\n<ul>\n	<li><span style="font-size:12px\;">Understand what conflict and conflict resolution mean</span></li>\n	<li><span style="font-size:12px\;">Understand all six phases of the conflict resolution process</span></li>\n	<li><span style="font-size:12px\;">Understand the five main styles of conflict resolution</span></li>\n	<li><span style="font-size:12px\;">Be able to adapt the process for all types of conflicts</span></li>\n	<li><span style="font-size:12px\;">Be able to break out parts of the process and use those tools to prevent conflict</span></li>\n	<li><span style="font-size:12px\;">Be able to use basic communication tools\, such as the agreement frame and open questions</span></li>\n	<li><span style="font-size:12px\;">Be able to use basic anger and stress management techniques</span></li>\n</ul>\n<span style="font-family:arial\;"><strong><span style="font-size: 12px\;"><a href="https://chambermaster.blob.core.windows.net/userfiles/UserFiles/chambers/1651/File/Events/2016_LA/ConflictResolutionsFlyerandObjectives.pdf"><span style="color:#800000\;">CLICK HERE TO VIEW THE EVENT FLYER</span></a> </span></strong></span><br />\n<strong>Alumni portion - Sponsored by: Brethren Care Village and Ashland Chiropractic Center</strong><br />\n<span style="color:#800000\;"><strong><span style="background-color:#FFFF00\;">IF YOU ARE AN ALUMNI AND WANT TO REGISTER\, PLEASE CONTACT THE CHAMBER OFFICE AND THEY WILL ADD YOU IN AT THE DISCOUNT PRICE!</span></strong></span><br />\n---------------------------------------------------------------------------------------<br />\n<span style="color:#000000\;"><strong><span style="background-color:#ffcc99\;">SAFETY COUNCIL MEETING PORTION </span>- Sponsored by the Ashland Area Safety Council </strong></span><br />\n<em><span style="font-size:12px\;"><span style="font-family: comic sans ms\;"><span style="color: rgb(0\, 51\, 204)\;">This new Lunch &amp\; Learn series\, made up of one-hour workshops\, is for anyone who works with people in any capacity. Our goal is to offer continuing leadership development for our Leadership Ashland alumni while also inviting those who may not be alumni to engage in their own professional development. Workshops will be offered throughout the year.</span></span></span></em><br />\n&nbsp\;
LOCATION:O.D.O.T Facility 906 Clark Ave. Ashland OH 44805
UID:e.1651.3579
SEQUENCE:3
DTSTAMP:20260420T205057Z
URL:https://members.ashlandoh.com/events/details/conflict-resolution-workshop-5-3-16-la-sc-05-03-2016-3579
END:VEVENT

END:VCALENDAR
