BEGIN:VCALENDAR
VERSION:2.0
PRODID:-//ChamberMaster//Event Calendar 2.0//EN
METHOD:PUBLISH
X-PUBLISHED-TTL:P3D
REFRESH-INTERVAL:P3D
CALSCALE:GREGORIAN
BEGIN:VEVENT
DTSTART:20151008T203000Z
DTEND:20151008T233000Z
X-MICROSOFT-CDO-ALLDAYEVENT:FALSE
SUMMARY:Connecting Communities Event 10-8-15
DESCRIPTION:A Taste of Bella Bleu's\n\nWe encourage you to come to this special event hosted by the Ashland Area Chamber of Commerce and the Richland Area Chamber of Commerce.\n\n\n\nNetwork with other business people from the Ashland and Mansfield areas while enjoying a variety of food samples from Bella Bleu's. Take a tour of their facility\, meet the staff and learn about all the services they provide.\n\n	NEW MEMBER MIXER: 4:30 - 5:00 pm\n	BUSINESS OPEN HOUSE: 5:00 - 7:30 pm
X-ALT-DESC;FMTTYPE=text/html:<strong>A Taste of Bella Bleu&#39\;s</strong><br />\nWe encourage you to come to this special event hosted by the Ashland Area Chamber of Commerce and the Richland Area Chamber of Commerce.<br />\n<br />\nNetwork with other business people from the Ashland and Mansfield areas while enjoying a variety of food samples from Bella Bleu&#39\;s. Take a tour of their facility\, meet the staff and learn about all the services they provide.\n<ul>\n	<li><strong>NEW MEMBER MIXER: 4:30 - 5:00 pm</strong></li>\n	<li><strong>BUSINESS OPEN HOUSE: 5:00 - 7:30 pm</strong></li>\n</ul>\n
LOCATION:Bella Bleu's at Water's Edge 170 Summerset Dr.\, Ashland OH 44805
UID:e.1651.2434
SEQUENCE:3
DTSTAMP:20260421T093321Z
URL:https://members.ashlandoh.com/events/details/connecting-communities-event-10-8-15-10-08-2015-2434
END:VEVENT

END:VCALENDAR
