BEGIN:VCALENDAR
VERSION:2.0
PRODID:-//ChamberMaster//Event Calendar 2.0//EN
METHOD:PUBLISH
X-PUBLISHED-TTL:P3D
REFRESH-INTERVAL:P3D
CALSCALE:GREGORIAN
BEGIN:VEVENT
DTSTART:20130725T220000Z
DTEND:20130725T233000Z
X-MICROSOFT-CDO-ALLDAYEVENT:FALSE
SUMMARY:Contractor Registration - Education
DESCRIPTION:FOCUS: CONTRACTOR REGISTRATION - EDUCATION:  All the Details!\n\n	SPEAKER: Shane Kremser\, City Engineer\n\n	\n\n	Coordinated by: \n\n	Ashland Area Chamber of Commerce's Contractor Trades Committee\n\n	Sponsored by: \n\n	Mitchell & Sons Moving & Storage\n\n	\n\n	Do you need more information on the City's Contractor Registration process?  Sure!  Come hear all the details such as the who\, what\, when\, where and why of Contractor Registration...!   \n\n	 \n\n	This meeting is the product of the Chamber's Contractor Trades Committee.  Two goals of the Committee were 1) education of those in the profession\, and 2) implementation assistance and so we invite all contractors\, County Planning Commission members\, the Township Association members and any others who have an interest in attending.  The City Engineer\, Shane Kremser\, will be the speaker. \n\n	 \n\n	This Contractor Trades Registration Education meeting is being generously sponsored by Mitchell & Sons Moving & Storage and will be held at Mitchell's Orchard and Farm Market\, 1217 Twp. Rd. 1153\, Ashland on Thursday\, July 25th from 6:00 to 7:30 pm This meeting is free for all to attend we just need a count to make sure there are enough refreshments.\n\n	 \n\n	Also\, please help spread the word about this meeting to others who may have an interest.
X-ALT-DESC;FMTTYPE=text/html:<p>\n	<strong>FOCUS: </strong>CONTRACTOR REGISTRATION - EDUCATION:&nbsp\; All the Details!<br />\n	<span style="color: rgb(178\, 34\, 34)\;"><em><strong>SPEAKER: Shane Kremser\, City Engineer</strong></em></span><br />\n	<br />\n	<strong>Coordinated by: </strong><br />\n	<em>Ashland Area Chamber of Commerce&#39\;s Contractor Trades Committee</em><br />\n	<strong>Sponsored by: </strong><br />\n	<em>Mitchell &amp\; Sons Moving &amp\; Storage<br />\n	<br />\n	<strong><span style="font-size: 10pt\;"><span style="font-family: calibri\,sans-serif\;">Do you need more information on the City&rsquo\;s Contractor Registration process?&nbsp\; </span></span></strong><span style="font-size: 10pt\;"><span style="font-family: calibri\,sans-serif\;">Sure!&nbsp\; Come hear all the details such as the who\, what\, when\, where and why of Contractor Registration...!&nbsp\; </span></span>&nbsp\;<br />\n	&nbsp\;<br />\n	<span style="font-size: 10pt\;"><span style="font-family: calibri\,sans-serif\;">This meeting is the product of the<strong> Chamber&rsquo\;s Contractor Trades Committee.&nbsp\; </strong>Two <strong>goals of the Committee </strong>were<strong> 1) education </strong>of those in the profession\, and <strong>2) implementation assistance</strong> and so we invite all contractors\, County Planning Commission members\, the Township Association members and any others who have an interest in attending.&nbsp\; The <strong>City Engineer\, Shane Kremser</strong>\, will be the speaker. </span></span><br />\n	&nbsp\;<br />\n	<span style="font-size: 10pt\;"><span style="font-family: calibri\,sans-serif\;">This <strong>Contractor Trades Registration Education </strong>meeting </span>is being generously sponsored by <strong>Mitchell &amp\; Sons Moving &amp\; Storage</strong> and will be held at <strong>Mitchell&rsquo\;s Orchard and Farm Market\, </strong>1217 Twp. Rd. 1153\, Ashland on<strong> Thursday\, July 25<sup>th</sup> </strong>from<strong> 6:00 to 7:30 pm </strong></span>This <strong>meeting is free</strong> for all to attend <strong>we just need a count</strong> to make sure there are enough refreshments.<br />\n	&nbsp\;<br />\n	<strong><span style="font-size: 10pt\;"><span style="font-family: calibri\,sans-serif\;"><span style="background-color: rgb(255\, 255\, 0)\;">Also\, please help spread the word about this meeting to others who may have an interest.</span></span></span></strong></em><br />\n	<br />\n	&nbsp\;</p>\n
LOCATION:Mitchell's Orchard and Farm Market 1217 Twp. Rd. 1153 Ashland\, OH 44805
UID:e.1651.669
SEQUENCE:3
DTSTAMP:20260423T065850Z
URL:https://members.ashlandoh.com/events/details/contractor-registration-education-07-25-2013-669
END:VEVENT

END:VCALENDAR
