BEGIN:VCALENDAR
VERSION:2.0
PRODID:-//ChamberMaster//Event Calendar 2.0//EN
METHOD:PUBLISH
X-PUBLISHED-TTL:P3D
REFRESH-INTERVAL:P3D
CALSCALE:GREGORIAN
BEGIN:VEVENT
DTSTART:20140520T200000Z
DTEND:20140520T213000Z
X-MICROSOFT-CDO-ALLDAYEVENT:FALSE
SUMMARY:Contractor Trades Connection Group 5-20-14
DESCRIPTION:Are you a contractor? If so\, we have a connection group for you!\n\n\n\nWELCOME TO OUR NEW\n\nCONTRACTOR TRADES\n\nCONNECTION GROUP. \n\nOur Mission: To promote and enhance the professionalism of the building and associated industries through strong support and representation of the industry in both the government and private sectors. \n\n\n\nSPEAKER: Kathy Goon - Executive Director\, Ashland Area Council for Economic Development\n\nTOPIC: "Yes\, Economic Development is Happening in Ashland County."\n\n\n\nCome an receive an update on the City's Contractor Registrations\, network with other contractors\, enjoy some light snacks and take away some goodies!\n\n\n\nWe look forward to seeing you there.\n\n\n\nClick Link for More details
X-ALT-DESC;FMTTYPE=text/html:<span style="font-size:14px\;"><strong>Are you a contractor? If so\, we have a connection group for you!</strong></span><br />\n<br />\n<span style="color:#000080\;"><span style="font-size: 20px\;"><strong>WELCOME TO OUR NEW<br />\nCONTRACTOR TRADES<br />\nCONNECTION GROUP. </strong></span></span><br />\n<strong>Our Mission: </strong><em>To promote and enhance the professionalism of the building and associated industries through strong support and representation of the industry in both the government and private sectors. </em><br />\n<br />\n<em><span style="color:#000080\;"><strong>SPEAKER: </strong></span>Kathy Goon - Executive Director\, Ashland Area Council for Economic Development</em><br />\n<em><strong><span style="color:#000080\;">TOPIC: </span>&quot\;</strong>Yes\, Economic Development is Happening in Ashland County.&quot\;</em><br />\n<br />\nCome an receive an update on the City&#39\;s Contractor Registrations\, network with other contractors\, enjoy some light snacks and take away some goodies!<br />\n<br />\n<strong>We look forward to seeing you there.<br />\n<br />\n<a href="http://www.ashlandoh.com/your-chamber/networking-/connection-groups/new-contractor-trades-connection-group">Click Link for More details</a></strong><br />\n&nbsp\;
LOCATION:The Olde Parsonage 1611 Eagle Way\, Ashland\, OH 44805 (419) 289-6060 www.oldeparsonage.com
UID:e.1651.1471
SEQUENCE:3
DTSTAMP:20260422T140808Z
URL:https://members.ashlandoh.com/events/details/contractor-trades-connection-group-5-20-14-05-20-2014-1471
END:VEVENT

END:VCALENDAR
