BEGIN:VCALENDAR
VERSION:2.0
PRODID:-//ChamberMaster//Event Calendar 2.0//EN
METHOD:PUBLISH
X-PUBLISHED-TTL:P3D
REFRESH-INTERVAL:P3D
CALSCALE:GREGORIAN
BEGIN:VEVENT
DTSTART:20150625T210000Z
DTEND:20150625T230000Z
X-MICROSOFT-CDO-ALLDAYEVENT:FALSE
SUMMARY:Contractor Trades Instructional Series - Session One: "Residential Permits" 6/25/15
DESCRIPTION:As part of our mission\, the Chamber strives to offer informative and educational meetings to help our members meet the demands and requirements made of their businesses. Over the next year\, we will be offering four (4) Contractor related forums/sessions\, and invite you to take advantage of these free meetings.\n\n\n\nHere are June 25th meeting details:\n\nTopic: Residential Permitting process with the City\n\nSpeaker: Shane Kremser - Engineer\, City of Ashland\n\nDate: Thursday\, June 25\, 2015\n\nTime: 5:00 - 7:00 pm\n\nPlace: The Caddy Shack Indoor Golf and Fun - 1640 Claremont Ave.\, Ashland\n\n\n\nFOR A LIST OF UPCOMING MEETINGS\,\n\nCLICK HERE.
X-ALT-DESC;FMTTYPE=text/html:<em>As part of our mission\, the Chamber strives to offer informative and educational meetings to help our members meet the demands and requirements made of their businesses. Over the next year\, we will be offering four (4) Contractor related forums/sessions\, and invite you to take advantage of these free meetings.</em><br />\n<br />\n<span style="font-size:16px\;"><span style="color: rgb(139\, 69\, 19)\;"><strong>Here are June 25th meeting details:</strong></span></span><br />\n<span style="font-size:11px\;"><strong>Topic: </strong>Residential Permitting process with the City<br />\n<strong>Speaker:</strong> Shane Kremser - Engineer\, City of Ashland<br />\n<strong>Date: </strong>Thursday\, June 25\, 2015<br />\n<strong>Time:</strong> 5:00 - 7:00 pm<br />\n<strong>Place: </strong>The Caddy Shack Indoor Golf and Fun - 1640 Claremont Ave.\, Ashland</span><br />\n<br />\n<strong>FOR A LIST OF UPCOMING MEETINGS\,<br />\n<a href="http://cloud.chambermaster.com/userfiles/UserFiles/chambers/1651/File/Connection_Groups/ContractorTradeInstructionalSeriesSchedule.pdf" target="_blank"><span style="background-color:#FFFF00\;">CLICK HERE.</span></a><span style="background-color:#FFFF00\;"> </span></strong><br />\n&nbsp\;
LOCATION:The Caddy Shack Indoor Golf and Fun - 1640 Claremont Ave.\, Ashland
UID:e.1651.2371
SEQUENCE:3
DTSTAMP:20260421T163622Z
URL:https://members.ashlandoh.com/events/details/contractor-trades-instructional-series-session-one-residential-permits-6-25-15-06-25-2015-2371
END:VEVENT

END:VCALENDAR
