BEGIN:VCALENDAR
VERSION:2.0
PRODID:-//ChamberMaster//Event Calendar 2.0//EN
METHOD:PUBLISH
X-PUBLISHED-TTL:P3D
REFRESH-INTERVAL:P3D
CALSCALE:GREGORIAN
BEGIN:VEVENT
DTSTART:20131102T220000Z
DTEND:20131103T010000Z
X-MICROSOFT-CDO-ALLDAYEVENT:FALSE
SUMMARY:CVB Murder Mystery
DESCRIPTION:CVB MURDER MYSTERY\n\n"MURDER AT THE DEADWOOD SALOON"\n\n\n\nFor weeks\, people have been pouring into the small western town of Deadwood for the biggest poker tournament this side of the Mississippi. From outlaws to marshals and saloon girls to southern belles\, everyone has made this small western frontier town THE place to be.\n\n\n\nAs the festivities of the poker tournament conclude\, a celebration party is planned at\n\nthe Deadwood Saloon to award the prize money for the tournament and to celebrate what is hoping to be a very financially successful venture for the saloon.\n\n\n\nWith a smattering of bandits\, bankers\, saloon girls\, sheriffs\, gamblers\, east coast debutantes\, and of course a few of the locals\, this is guaranteed to make for a very interesting evening indeed.\n\n\n\nFor more info on this event CLICK HERE
X-ALT-DESC;FMTTYPE=text/html:<span style="color:#008080\;"><strong><span style="font-size: 20px\;">CVB MURDER MYSTERY</span></strong></span><br />\n<strong>&quot\;MURDER AT THE DEADWOOD SALOON&quot\;</strong><br />\n<br />\nFor weeks\, people have been pouring into the small western town of Deadwood for the biggest poker tournament this side of the Mississippi. From outlaws to marshals and saloon girls to southern belles\, everyone has made this small western frontier town THE place to be.<br />\n<br />\nAs the festivities of the poker tournament conclude\, a celebration party is planned at<br />\nthe Deadwood Saloon to award the prize money for the tournament and to celebrate what is hoping to be a very financially successful venture for the saloon.<br />\n<br />\nWith a smattering of bandits\, bankers\, saloon girls\, sheriffs\, gamblers\, east coast debutantes\, and of course a few of the locals\, this is guaranteed to make for a very interesting evening indeed.<br />\n<br />\nFor more info on this event <a href="http://www.visitashlandohio.com/events_detail.php?event_id=788" target="_blank"><strong>CLICK HERE</strong></a>
LOCATION:Mitchell's Orchard & Farm Market 1217 Twp. Rd. 1153 Ashland OH 44805
UID:e.1651.911
SEQUENCE:3
DTSTAMP:20260423T015726Z
URL:https://members.ashlandoh.com/events/details/cvb-murder-mystery-11-02-2013-911
END:VEVENT

END:VCALENDAR
