BEGIN:VCALENDAR
VERSION:2.0
PRODID:-//ChamberMaster//Event Calendar 2.0//EN
METHOD:PUBLISH
X-PUBLISHED-TTL:P3D
REFRESH-INTERVAL:P3D
CALSCALE:GREGORIAN
BEGIN:VEVENT
DTSTART:20170519T150500Z
DTEND:20170519T160000Z
X-MICROSOFT-CDO-ALLDAYEVENT:FALSE
SUMMARY:Dine To Donate - Leadership Ashland Event 5-19-17
DESCRIPTION:Join us for a special Leadership Ashland Fundraiser:\n\n   When: May 19\, 2017\n\n   Time: Dine in sometime between 11:00 am and 12:00 midnight\n\n   Where: Shanks Bar & Grill\n\n   Bring: Money and the Attached Flyer\n\nNote: 20% of food purchases will be donated back to the Leadership Ashland Program.\n\n\n\nClick Here to download or print Flyer.  Flyer must be presented at the time of order (Dine-In only) to receive credit for the sale!\n\n\n\nWe look forward to seeing you there!
X-ALT-DESC;FMTTYPE=text/html:<span style="color:#0000CD\;"><span style="font-size: 18px\;"><strong>Join us for a special Leadership Ashland Fundraiser:</strong></span></span><br />\n&nbsp\;&nbsp\; <strong>When</strong>: May 19\, 2017<br />\n&nbsp\;&nbsp\; <strong>Time</strong>: Dine in sometime between 11:00 am and 12:00 midnight<br />\n&nbsp\;&nbsp\; <strong>Where</strong>: Shanks Bar &amp\; Grill<br />\n&nbsp\;&nbsp\; <strong>Bring</strong>: Money and the Attached Flyer<br />\n<span style="color:#0000CD\;"><em>Note: 20% of food purchases will be donated back to the Leadership Ashland Program.</em></span><br />\n<br />\n<strong><a href="https://chambermaster.blob.core.windows.net/userfiles/UserFiles/chambers/1651/File/Leadership_Ashland/Alumni_Association/ShanksFundraiserFlyewithAddress-LA.pdf" target="_blank"><span style="color:#0000CD\;">Click Here to download or print Flyer.</span></a><span style="color:#0000CD\;"> </span></strong> Flyer must be presented at the time of order (Dine-In only) to receive credit for the sale!<br />\n<br />\nWe look forward to seeing you there!
LOCATION:Shanks Bar & Grill 1333 Center St. Ashland OH 44805
UID:e.1651.5311
SEQUENCE:3
DTSTAMP:20260420T000551Z
URL:https://members.ashlandoh.com/events/details/dine-to-donate-leadership-ashland-event-5-19-17-5311
END:VEVENT

END:VCALENDAR
