BEGIN:VCALENDAR
VERSION:2.0
PRODID:-//ChamberMaster//Event Calendar 2.0//EN
METHOD:PUBLISH
X-PUBLISHED-TTL:P3D
REFRESH-INTERVAL:P3D
CALSCALE:GREGORIAN
BEGIN:VEVENT
DTSTART:20160907T213000Z
DTEND:20160907T223000Z
X-MICROSOFT-CDO-ALLDAYEVENT:FALSE
SUMMARY:Discover Tuscany Informational Trip Meeting 9-7-16
DESCRIPTION:Join us for a Discover Tuscany Informational Trip Meeting\n\nSpeaker: Mitchell Mack\n\nDate: Wednesday\, September 7\, 2016\n\nTime: 5:30 - 6:30 pm\n\nPlace: Ashland Chamber Office - 211 Claremont Ave. Ashland OH
X-ALT-DESC;FMTTYPE=text/html:Join us for a Discover Tuscany Informational Trip Meeting<br />\nSpeaker: Mitchell Mack<br />\nDate: Wednesday\, September 7\, 2016<br />\nTime: 5:30 - 6:30 pm<br />\nPlace: Ashland Chamber Office - 211 Claremont Ave. Ashland OH<br />\n&nbsp\;
LOCATION:Chamber Office 211 Claremont Ave. Ashland OH 44805
UID:e.1651.4140
SEQUENCE:3
DTSTAMP:20260420T153538Z
URL:https://members.ashlandoh.com/events/details/discover-tuscany-informational-trip-meeting-9-7-16-09-07-2016-4140
END:VEVENT

END:VCALENDAR
