BEGIN:VCALENDAR
VERSION:2.0
PRODID:-//ChamberMaster//Event Calendar 2.0//EN
METHOD:PUBLISH
X-PUBLISHED-TTL:P3D
REFRESH-INTERVAL:P3D
CALSCALE:GREGORIAN
BEGIN:VEVENT
DTSTART:20131001T213000Z
DTEND:20131001T220000Z
X-MICROSOFT-CDO-ALLDAYEVENT:FALSE
SUMMARY:Elite School of Cosmetology Ribbon Cutting & Grand Opening
DESCRIPTION:Come Welcome a New Business to Ashland\n\n(& a new Chamber Member!)
X-ALT-DESC;FMTTYPE=text/html:Come Welcome a New Business to Ashland<br />\n(&amp\; a new Chamber Member!)
LOCATION:1165 E. Main St. Ashland\, OH 44805 East Commerce Building
UID:e.1651.901
SEQUENCE:3
DTSTAMP:20260423T033820Z
URL:https://members.ashlandoh.com/events/details/elite-school-of-cosmetology-ribbon-cutting-grand-opening-10-01-2013-901
END:VEVENT

END:VCALENDAR
