BEGIN:VCALENDAR
VERSION:2.0
PRODID:-//ChamberMaster//Event Calendar 2.0//EN
METHOD:PUBLISH
X-PUBLISHED-TTL:P3D
REFRESH-INTERVAL:P3D
CALSCALE:GREGORIAN
BEGIN:VEVENT
DTSTART:20121109T180000Z
DTEND:20121109T190000Z
X-MICROSOFT-CDO-ALLDAYEVENT:FALSE
SUMMARY:Expo 2012 Data Protection - Friday
DESCRIPTION:2012 Business Expo Workshop - Friday\n\nSpeaker: Scott Moats\, MT Meridian\n\nLocation: AU Convo - Heritage Room
X-ALT-DESC;FMTTYPE=text/html:2012 Business Expo Workshop - Friday<br />\nSpeaker: Scott Moats\, MT Meridian<br />\nLocation: AU Convo - Heritage Room
LOCATION:
UID:e.1651.585
SEQUENCE:3
DTSTAMP:20260423T201350Z
URL:https://members.ashlandoh.com/events/details/expo-2012-data-protection-friday-11-09-2012-585
END:VEVENT

END:VCALENDAR
