BEGIN:VCALENDAR
VERSION:2.0
PRODID:-//ChamberMaster//Event Calendar 2.0//EN
METHOD:PUBLISH
X-PUBLISHED-TTL:P3D
REFRESH-INTERVAL:P3D
CALSCALE:GREGORIAN
BEGIN:VEVENT
DTSTART:20121108T200000Z
DTEND:20121108T213000Z
X-MICROSOFT-CDO-ALLDAYEVENT:FALSE
SUMMARY:Expo 2012 Direct Mail Wkshp - Thursday
DESCRIPTION:2012 Business Expo Workshop\n\nSpeaker: Virginia Dolinsky\, USPS\n\nLocation: AU Convo Heritage Room
X-ALT-DESC;FMTTYPE=text/html:2012 Business Expo Workshop<br />\nSpeaker: Virginia Dolinsky\, USPS<br />\nLocation: AU Convo Heritage Room
LOCATION:
UID:e.1651.577
SEQUENCE:3
DTSTAMP:20260423T201400Z
URL:https://members.ashlandoh.com/events/details/expo-2012-direct-mail-wkshp-thursday-11-08-2012-577
END:VEVENT

END:VCALENDAR
