BEGIN:VCALENDAR
VERSION:2.0
PRODID:-//ChamberMaster//Event Calendar 2.0//EN
METHOD:PUBLISH
X-PUBLISHED-TTL:P3D
REFRESH-INTERVAL:P3D
CALSCALE:GREGORIAN
BEGIN:VEVENT
DTSTART:20121109T150000Z
DTEND:20121109T160000Z
X-MICROSOFT-CDO-ALLDAYEVENT:FALSE
SUMMARY:Expo 2012 Enhance Communications Wkshp - Friday
DESCRIPTION:2012 Business Expo Workshop - Friday\n\nSpeaker: Rich Workman - DRM\n\nLocation: AU Convo - Heritage Room
X-ALT-DESC;FMTTYPE=text/html:2012 Business Expo Workshop - Friday<br />\nSpeaker: Rich Workman - DRM<br />\nLocation: AU Convo - Heritage Room
LOCATION:
UID:e.1651.582
SEQUENCE:3
DTSTAMP:20260423T201626Z
URL:https://members.ashlandoh.com/events/details/expo-2012-enhance-communications-wkshp-friday-11-09-2012-582
END:VEVENT

END:VCALENDAR
