BEGIN:VCALENDAR
VERSION:2.0
PRODID:-//ChamberMaster//Event Calendar 2.0//EN
METHOD:PUBLISH
X-PUBLISHED-TTL:P3D
REFRESH-INTERVAL:P3D
CALSCALE:GREGORIAN
BEGIN:VEVENT
DTSTART:20121108T200000Z
DTEND:20121108T210000Z
X-MICROSOFT-CDO-ALLDAYEVENT:FALSE
SUMMARY:Expo 2012 Enhance Communications Wkshp - Thursday
DESCRIPTION:2012 Business Expo Workshop\n\nSpeaker: Rich Workman\, DRM\n\nLocation: AU Convo Trustee Room
X-ALT-DESC;FMTTYPE=text/html:2012 Business Expo Workshop<br />\nSpeaker: Rich Workman\, DRM<br />\nLocation: AU Convo Trustee Room
LOCATION:
UID:e.1651.578
SEQUENCE:3
DTSTAMP:20260423T201647Z
URL:https://members.ashlandoh.com/events/details/expo-2012-enhance-communications-wkshp-thursday-11-08-2012-578
END:VEVENT

END:VCALENDAR
