BEGIN:VCALENDAR
VERSION:2.0
PRODID:-//ChamberMaster//Event Calendar 2.0//EN
METHOD:PUBLISH
X-PUBLISHED-TTL:P3D
REFRESH-INTERVAL:P3D
CALSCALE:GREGORIAN
BEGIN:VEVENT
DTSTART:20121109T160000Z
DTEND:20121109T170000Z
X-MICROSOFT-CDO-ALLDAYEVENT:FALSE
SUMMARY:Expo 2012 Leadership in Action - Friday
DESCRIPTION:2012 Business Expo Workshop - Friday\n\nSpeaker: Ginny Telego\, Wager's Way\n\nLocation: AU Convo - Trustee Room
X-ALT-DESC;FMTTYPE=text/html:2012 Business Expo Workshop - Friday<br />\nSpeaker: Ginny Telego\, Wager&#39\;s Way<br />\nLocation: AU Convo - Trustee Room
LOCATION:
UID:e.1651.583
SEQUENCE:3
DTSTAMP:20260423T201554Z
URL:https://members.ashlandoh.com/events/details/expo-2012-leadership-in-action-friday-11-09-2012-583
END:VEVENT

END:VCALENDAR
