BEGIN:VCALENDAR
VERSION:2.0
PRODID:-//ChamberMaster//Event Calendar 2.0//EN
METHOD:PUBLISH
X-PUBLISHED-TTL:P3D
REFRESH-INTERVAL:P3D
CALSCALE:GREGORIAN
BEGIN:VEVENT
DTSTART:20121109T180000Z
DTEND:20121109T190000Z
X-MICROSOFT-CDO-ALLDAYEVENT:FALSE
SUMMARY:Expo 2012 Social Media Part II Wkshp - Friday
DESCRIPTION:2012 Business Expo Workshop - Friday\n\nSpeaker: Jeremy Harrison\, SPIRE Adv.\n\nLocation: AU Convo - Faculty Room
X-ALT-DESC;FMTTYPE=text/html:2012 Business Expo Workshop - Friday<br />\nSpeaker: Jeremy Harrison\, SPIRE Adv.<br />\nLocation: AU Convo - Faculty Room
LOCATION:
UID:e.1651.584
SEQUENCE:3
DTSTAMP:20260423T221115Z
URL:https://members.ashlandoh.com/events/details/expo-2012-social-media-part-ii-wkshp-friday-11-09-2012-584
END:VEVENT

END:VCALENDAR
