BEGIN:VCALENDAR
VERSION:2.0
PRODID:-//ChamberMaster//Event Calendar 2.0//EN
METHOD:PUBLISH
X-PUBLISHED-TTL:P3D
REFRESH-INTERVAL:P3D
CALSCALE:GREGORIAN
BEGIN:VEVENT
DTSTART:20141001T150000Z
DTEND:20141001T170000Z
X-MICROSOFT-CDO-ALLDAYEVENT:FALSE
SUMMARY:EXPORT Lunch & Learn 10-1-14
DESCRIPTION:YOU ARE INVITED:\n\nCome and learn the key points\, tips\, and pitfalls of exporting\n\n	The players - seller\, buyer\, intermediaries\n	Transportation - ocean and air\n	IncoTerms (FCA\, EXW\, CIF\, C&F\, CIP\, CPT\, DAP\, DDP\, etc)\n	How to get paid - open account\, drafts\, letters of credit\n	Documents\n\n\n\nFeatured Speaker:\n\nMike Easton - Vice President - General Manager / Licensed Customs Broker with Star USA\, Inc.
X-ALT-DESC;FMTTYPE=text/html:<span style="font-size:18px\;"><span style="color: rgb(0\, 0\, 205)\;"><strong>YOU ARE INVITED:</strong></span></span><br />\n<em>Come and learn the key points\, tips\, and pitfalls of exporting</em>\n<ol>\n	<li><em>The players - seller\, buyer\, intermediaries</em></li>\n	<li><em>Transportation - ocean and air</em></li>\n	<li><em>IncoTerms (FCA\, EXW\, CIF\, C&amp\;F\, CIP\, CPT\, DAP\, DDP\, etc)</em></li>\n	<li><em>How to get paid - open account\, drafts\, letters of credit</em></li>\n	<li><em>Documents</em></li>\n</ol>\n<br />\n<span style="color:#B22222\;"><strong>Featured Speaker:</strong></span><br />\nMike Easton - <span style="font-size:14px\;"><span style="color: rgb(89\, 89\, 89)\;"><span style="font-family: franklin gothic book\,sans-serif\;">Vice President </span></span></span>- General Manager / Licensed Customs Broker with Star USA\, Inc.<br />\n&nbsp\;
LOCATION:O.D.O.T. - Ashland Office 906 Clark Ave.\, Ashland OH 44805
UID:e.1651.1534
SEQUENCE:3
DTSTAMP:20260422T060228Z
URL:https://members.ashlandoh.com/events/details/export-lunch-learn-10-1-14-10-01-2014-1534
END:VEVENT

END:VCALENDAR
