BEGIN:VCALENDAR
VERSION:2.0
PRODID:-//ChamberMaster//Event Calendar 2.0//EN
METHOD:PUBLISH
X-PUBLISHED-TTL:P3D
REFRESH-INTERVAL:P3D
CALSCALE:GREGORIAN
BEGIN:VEVENT
DTSTART:20160614T113000Z
DTEND:20160614T133000Z
X-MICROSOFT-CDO-ALLDAYEVENT:FALSE
SUMMARY:Federal Labor Laws - Change is Coming - Be prepared
DESCRIPTION:LABOR LAWS ARE CHANGING!\n\nThe Ashland Area Chamber of Commerce wants you to understand the new laws and give you resources to help prepare you for the changes to come.\n\n\n\nWhat: Labor Law Changes - Workshop\n\nSpeakers: Peggy Schmitz\, Patrick Noser and Susan Baker Attorneys for Critchfield\, Critchfield & Johnston\n\nEvent Agenda:\n\n7:30 to 7:45 am: Sign In / Networking\n\n7:45 to 8:30 am: Program\n\n\n	Overview of current law\n	Changes to the law\n	Who does it apply to:  employee count\, duties test\, salary test\, highly-compensated\, etc.\n	Audits and penalties\n	Strategies - what do you need to do\; being mindful of people\, the work\, and the costs \n	Communications:  during initial phase\, prior to implementation\, as a group\, individually\, etc.\n	Work rules:  working during off hours\, technology\, overtime\, comp time\, etc. \n	Documentation of discussions with employees\n	Policies that should be reviewed or written\n	Handbook revisions\n\n\n8:30 to 9:00 am:  Q & A\n\n9:00 - 9:30 am: Extra time if program runs long\n\n9:30 am: Dismissal\n\n\nEvent Details:\n\nWhen: Tuesday\, June 14\, 2016\n\nTime: 7:30 - 9:30 am\n\nPlace: Kroc Center - 527 E. Liberty St.\, Ashland\n\nCost: Free - members $20 non-members\n\n\n\nREGISTRATION IS REQUIRED!
X-ALT-DESC;FMTTYPE=text/html:<span style="color:#8B4513\;"><span style="font-size: 22px\;"><strong><span style="font-family: verdana\;">LABOR LAWS ARE CHANGING!</span></strong></span></span><br />\n<em>The Ashland Area Chamber of Commerce wants you to understand the new laws and give you resources to help prepare you for the changes to come.</em><br />\n<br />\n<strong>What: Labor Law Changes - Workshop</strong><br />\n<span style="color:#800000\;"><em>Speakers: Peggy Schmitz\, Patrick Noser and Susan Baker Attorneys for Critchfield\, Critchfield &amp\; Johnston</em></span><br />\n<strong>Event Agenda:</strong><br />\n<span style="font-family:arial\;"><span style="font-size: 11px\;"><span style="color: rgb(38\, 38\, 38)\;">7:30 to 7:45 am: Sign In / Networking</span><br />\n<span style="color: rgb(38\, 38\, 38)\;">7:45 to 8:30 am: Program</span></span></span>\n\n<ul>\n	<li><span style="font-family:arial\;"><span style="font-size: 11px\;"><span style="color: rgb(38\, 38\, 38)\;">Overview of current law</span></span></span></li>\n	<li><span style="font-family:arial\;"><span style="font-size: 11px\;"><span style="color: rgb(38\, 38\, 38)\;">Changes to the law</span></span></span></li>\n	<li><span style="font-family:arial\;"><span style="font-size: 11px\;"><span style="color: rgb(38\, 38\, 38)\;">Who does it apply to:&nbsp\; employee count\, duties test\, salary test\, highly-compensated\, etc.</span></span></span></li>\n	<li><span style="font-family:arial\;"><span style="font-size: 11px\;"><span style="color: rgb(38\, 38\, 38)\;">Audits and penalties</span></span></span></li>\n	<li><span style="font-family:arial\;"><span style="font-size: 11px\;"><span style="color: rgb(38\, 38\, 38)\;">Strategies - what do you need to do\; being mindful of people\, the work\, and the costs </span></span></span></li>\n	<li style="color: rgb(38\, 38\, 38)\;"><span style="font-family:arial\;"><span style="font-size: 11px\;">Communications:&nbsp\; during initial phase\, prior to implementation\, as a group\, individually\, etc.</span></span></li>\n	<li style="color: rgb(38\, 38\, 38)\;"><span style="font-family:arial\;"><span style="font-size: 11px\;">Work rules:&nbsp\; working during off hours\, technology\, overtime\, comp time\, etc.&nbsp\;</span></span></li>\n	<li style="color: rgb(38\, 38\, 38)\;"><span style="font-family:arial\;"><span style="font-size: 11px\;">Documentation of discussions with employees</span></span></li>\n	<li style="color: rgb(38\, 38\, 38)\;"><span style="font-family:arial\;"><span style="font-size: 11px\;">Policies that should be reviewed or written</span></span></li>\n	<li style="color: rgb(38\, 38\, 38)\;"><span style="font-family:arial\;"><span style="font-size: 11px\;">Handbook revisions</span></span></li>\n</ul>\n\n<div style="color:#262626\;"><span style="font-family:arial\;"><span style="font-size: 11px\;"><span style="color: rgb(38\, 38\, 38)\;">8:30 to 9:00 am:&nbsp\; Q &amp\; A</span></span></span><br />\n<span style="font-family:arial\;"><span style="font-size: 11px\;">9:00 - 9:30 am: Extra time if program runs long<br />\n9:30 am: Dismissal</span></span></div>\n<br />\n<strong>Event Details:</strong><br />\nWhen: Tuesday\, June 14\, 2016<br />\nTime: 7:30 - 9:30 am<br />\nPlace: Kroc Center - 527 E. Liberty St.\, Ashland<br />\nCost: Free - members $20 non-members<br />\n<br />\n<strong>REGISTRATION IS REQUIRED!</strong>
LOCATION:
UID:e.1651.4135
SEQUENCE:3
DTSTAMP:20260420T203918Z
URL:https://members.ashlandoh.com/events/details/federal-labor-laws-change-is-coming-be-prepared-06-14-2016-4135
END:VEVENT

END:VCALENDAR
