BEGIN:VCALENDAR
VERSION:2.0
PRODID:-//ChamberMaster//Event Calendar 2.0//EN
METHOD:PUBLISH
X-PUBLISHED-TTL:P3D
REFRESH-INTERVAL:P3D
CALSCALE:GREGORIAN
BEGIN:VEVENT
DTSTART:20150307T200000Z
DTEND:20150308T000000Z
X-MICROSOFT-CDO-ALLDAYEVENT:FALSE
SUMMARY:First Annual Ashland Bridal Show
DESCRIPTION:Ashland Bridal Show\n\nSaturday\, March 7\, 2015\n\n3:00-7:00 pm\n\n4:30 Fashion Show\n\n$5 pp\n\n\n\nView Poster
X-ALT-DESC;FMTTYPE=text/html:<h1>Ashland Bridal Show</h1>\n\n<p>Saturday\, March 7\, 2015<br />\n3:00-7:00 pm<br />\n4:30 Fashion Show<br />\n$5 pp<br />\n<br />\n<span style="font-size:26px\;"><strong><a href="http://cloud.chambermaster.com/userfiles/UserFiles/chambers/1651/File/Community_News/Community_Events/pumphouse_events/BridalShowposter.jpg">View Poster</a> </strong></span></p>\n
LOCATION:Pump House Grille Catering & Event Center 400 Orange St.\, Ashland Ohio
UID:e.1651.2202
SEQUENCE:3
DTSTAMP:20260421T232115Z
URL:https://members.ashlandoh.com/events/details/first-annual-ashland-bridal-show-03-07-2015-2202
END:VEVENT

END:VCALENDAR
