BEGIN:VCALENDAR
VERSION:2.0
PRODID:-//ChamberMaster//Event Calendar 2.0//EN
METHOD:PUBLISH
X-PUBLISHED-TTL:P3D
REFRESH-INTERVAL:P3D
CALSCALE:GREGORIAN
BEGIN:VEVENT
DTSTART:20171207T130000Z
DTEND:20171207T160000Z
X-MICROSOFT-CDO-ALLDAYEVENT:FALSE
SUMMARY:Freed for Growth: Small Business Workshop
DESCRIPTION:How to overcome the 3 key challenges that hold small business leaders back:\n\n	Free up your time with a new 80/20 mindset\n	Avoid price wars with smarter marketing\n	Hire and retain the best workers\n\nSeating is limited! Click here to register.
X-ALT-DESC;FMTTYPE=text/html:How to overcome the 3 key challenges that hold small business leaders back:\n<ul>\n	<li>Free up your time with a new 80/20 mindset</li>\n	<li>Avoid price wars with smarter marketing</li>\n	<li>Hire and retain the best workers</li>\n</ul>\nSeating is limited! <a href="http://www.spiread.com/workshop">Click here to register.</a><br />\n<br />\n&nbsp\;
LOCATION:Ashland University\, Ashland\, OH
UID:e.1651.5379
SEQUENCE:3
DTSTAMP:20260419T115919Z
URL:https://members.ashlandoh.com/events/details/freed-for-growth-small-business-workshop-5379
END:VEVENT

END:VCALENDAR
