BEGIN:VCALENDAR
VERSION:2.0
PRODID:-//ChamberMaster//Event Calendar 2.0//EN
METHOD:PUBLISH
X-PUBLISHED-TTL:P3D
REFRESH-INTERVAL:P3D
CALSCALE:GREGORIAN
BEGIN:VEVENT
DTSTART:20160205T163000Z
DTEND:20160205T180000Z
X-MICROSOFT-CDO-ALLDAYEVENT:FALSE
SUMMARY:Friday Focus - Attracting New Business 2-5-16
DESCRIPTION:FRIDAY FOCUS LUNCHEON - SPEAKER SERIES    \n\nDesigned to focus on specific topics relevant to business or provide updates that are important to the community.\n\n\n\nTOPIC: 5 Ways to Attract People to Your Business\n\nSPEAKER: Josh Coffy - Flight Media\n\nTIME: 11:30 am - 1:00 pm\n\nPLACE: Ashland University Convocation Center\n\nCOST: $20 pp
X-ALT-DESC;FMTTYPE=text/html:<strong>FRIDAY FOCUS LUNCHEON - SPEAKER SERIES&nbsp\;&nbsp\;&nbsp\;&nbsp\;</strong><br />\nDesigned to focus on specific topics relevant to business or provide updates that are important to the community.<br />\n<br />\n<strong>TOPIC: 5 Ways to Attract People to Your Business</strong><br />\n<strong>SPEAKER:</strong> Josh Coffy - Flight Media<br />\n<strong>TIME:</strong> 11:30 am - 1:00 pm<br />\n<strong>PLACE:</strong> <span style="color:#A52A2A\;"><strong>Ashland University Convocation Center</strong></span><br />\n<strong>COST: </strong>$20 pp
LOCATION:AU Convocation Center 638 Jefferson St. Ashland OH 44805
UID:e.1651.2512
SEQUENCE:3
DTSTAMP:20260421T021241Z
URL:https://members.ashlandoh.com/events/details/friday-focus-attracting-new-business-2-5-16-02-05-2016-2512
END:VEVENT

END:VCALENDAR
