BEGIN:VCALENDAR
VERSION:2.0
PRODID:-//ChamberMaster//Event Calendar 2.0//EN
METHOD:PUBLISH
X-PUBLISHED-TTL:P3D
REFRESH-INTERVAL:P3D
CALSCALE:GREGORIAN
BEGIN:VEVENT
DTSTART:20161007T153000Z
DTEND:20161007T170000Z
X-MICROSOFT-CDO-ALLDAYEVENT:FALSE
SUMMARY:Friday Focus - Networking for Success 10-7-16
DESCRIPTION:FRIDAY FOCUS LUNCHEON - SPEAKER SERIES    \n\nDesigned to focus on specific topics relevant to business or provide updates that are important to the community.\n\n\n\nTOPIC: Networking for Success\n\nSPEAKER: Donald Wayne McLeod\n\nTIME: 11:30 am - 1:00 pm\n\nPLACE: Salvation Army Kroc Center\n\nCOST: $20 pp
X-ALT-DESC;FMTTYPE=text/html:<strong>FRIDAY FOCUS LUNCHEON - SPEAKER SERIES&nbsp\;&nbsp\;&nbsp\;&nbsp\;</strong><br />\nDesigned to focus on specific topics relevant to business or provide updates that are important to the community.<br />\n<br />\n<strong>TOPIC: </strong>Networking for Success<br />\n<strong>SPEAKER:</strong> Donald Wayne McLeod<br />\n<strong>TIME:</strong> 11:30 am - 1:00 pm<br />\n<strong>PLACE:</strong> Salvation Army Kroc Center<br />\n<strong>COST: </strong>$20 pp
LOCATION:Salvation Army Kroc Center 527 E Liberty St. Ashland OH 44805
UID:e.1651.2516
SEQUENCE:3
DTSTAMP:20260420T135030Z
URL:https://members.ashlandoh.com/events/details/friday-focus-networking-for-success-10-7-16-10-07-2016-2516
END:VEVENT

END:VCALENDAR
