BEGIN:VCALENDAR
VERSION:2.0
PRODID:-//ChamberMaster//Event Calendar 2.0//EN
METHOD:PUBLISH
X-PUBLISHED-TTL:P3D
REFRESH-INTERVAL:P3D
CALSCALE:GREGORIAN
BEGIN:VEVENT
DTSTART:20140912T153000Z
DTEND:20140912T170000Z
X-MICROSOFT-CDO-ALLDAYEVENT:FALSE
SUMMARY:Friday Focus - State of Agriculture
DESCRIPTION:"State of Agriculture"\n\nPanel Discussion on the following / lead by:\n\n"Current Technologies being used to plant and grow crops"\n\n       Speaker: Al Holdren - Town & Country Co-op\n\n"Financial issues affecting farmers today"\n\n       Speaker: Hugh Storer - Ag Credit Association\n\n"How property development affects the farmer's water resource management"\n\n       Speaker: John Fitzpatrick - Ashland County Farm Bureau
X-ALT-DESC;FMTTYPE=text/html:<span style="font-size:16px\;"><span style="color: rgb(0\, 0\, 205)\;"><strong>&quot\;State of Agriculture&quot\;</strong></span></span><br />\n<strong>Panel Discussion on the following / lead by:</strong><br />\n<em>&quot\;Current Technologies being used to plant and grow crops&quot\;</em><br />\n&nbsp\;&nbsp\;&nbsp\;&nbsp\;&nbsp\;&nbsp\; <span style="color:#B22222\;">Speaker: Al Holdren - Town &amp\; Country Co-op</span><br />\n<em>&quot\;Financial issues affecting farmers today&quot\;</em><br />\n&nbsp\;&nbsp\;&nbsp\;&nbsp\;&nbsp\;&nbsp\; <span style="color:#B22222\;">Speaker: Hugh Storer - Ag Credit Association</span><br />\n<em>&quot\;How property development affects the farmer&#39\;s water resource management&quot\;</em><br />\n&nbsp\;&nbsp\;&nbsp\;&nbsp\;&nbsp\;&nbsp\; <span style="color:#B22222\;">Speaker: John Fitzpatrick - Ashland County Farm Bureau</span>
LOCATION:O.D.O.T. - Ashland Office 906 Clark Ave.\, Ashland\, OH 44805
UID:e.1651.1473
SEQUENCE:3
DTSTAMP:20260422T073742Z
URL:https://members.ashlandoh.com/events/details/friday-focus-state-of-agriculture-09-12-2014-1473
END:VEVENT

END:VCALENDAR
