BEGIN:VCALENDAR
VERSION:2.0
PRODID:-//ChamberMaster//Event Calendar 2.0//EN
METHOD:PUBLISH
X-PUBLISHED-TTL:P3D
REFRESH-INTERVAL:P3D
CALSCALE:GREGORIAN
BEGIN:VEVENT
DTSTART:20151009T153000Z
DTEND:20151009T170000Z
X-MICROSOFT-CDO-ALLDAYEVENT:FALSE
SUMMARY:Friday Focus - State of Industry 10-9-15
DESCRIPTION:"State of Industry"\n\nBringing Industrial groups together in an effort to increase the qualified workforce pool\, while providing an alternative means of employment for disabled individuals.\n\n\n\nIndustry is booming\, and the community must come together to change the stigma associated with manufacturing jobs. We need to spread the word that there are worthwhile opportunities for career success for those willing to work!
X-ALT-DESC;FMTTYPE=text/html:<span style="font-size:16px\;"><span style="color: rgb(0\, 0\, 205)\;"><strong>"State of Industry"</strong></span></span><br>\nBringing Industrial groups together in an effort to increase the qualified workforce pool\, while providing an alternative means of employment for disabled individuals.<br>\n<br>\nIndustry is booming\, and the community must come together to change the stigma associated with manufacturing jobs. We need to spread the word that there are worthwhile opportunities for career success for those willing to work!<br>\n&nbsp\;
LOCATION:Salvation Army Kroc Center 427 E Liberty St.\, Ashland Oh 44805
UID:e.1651.1611
SEQUENCE:3
DTSTAMP:20260421T093657Z
URL:https://members.ashlandoh.com/events/details/friday-focus-state-of-industry-10-9-15-10-09-2015-1611
END:VEVENT

END:VCALENDAR
