BEGIN:VCALENDAR
VERSION:2.0
PRODID:-//ChamberMaster//Event Calendar 2.0//EN
METHOD:PUBLISH
X-PUBLISHED-TTL:P3D
REFRESH-INTERVAL:P3D
CALSCALE:GREGORIAN
BEGIN:VEVENT
DTSTART:20160812T153000Z
DTEND:20160812T170000Z
X-MICROSOFT-CDO-ALLDAYEVENT:FALSE
SUMMARY:Friday Focus - State of Social Services 8-12-16
DESCRIPTION:FRIDAY FOCUS LUNCHEON - SPEAKER SERIES    \n\nDesigned to focus on specific topics relevant to business or provide updates that are important to the community.\n\n\n\nTOPIC: State of Social Services\n\nSPEAKER: Diane Karther - AFCFC\n\nTIME: 11:30 am - 1:00 pm\n\nPLACE: Ashland University Convocation Center\n\nCOST: $20 pp
X-ALT-DESC;FMTTYPE=text/html:<strong>FRIDAY FOCUS LUNCHEON - SPEAKER SERIES&nbsp\;&nbsp\;&nbsp\;&nbsp\;</strong><br />\nDesigned to focus on specific topics relevant to business or provide updates that are important to the community.<br />\n<br />\n<strong>TOPIC: </strong>State of Social Services<br />\n<strong>SPEAKER:</strong> Diane Karther - AFCFC<br />\n<strong>TIME:</strong> 11:30 am - 1:00 pm<br />\n<strong>PLACE:</strong> Ashland University Convocation Center<br />\n<strong>COST: </strong>$20 pp
LOCATION:AU Convocation Center 638 Jefferson St. Ashland OH 44805
UID:e.1651.2515
SEQUENCE:3
DTSTAMP:20260420T153505Z
URL:https://members.ashlandoh.com/events/details/friday-focus-state-of-social-services-8-12-16-08-12-2016-2515
END:VEVENT

END:VCALENDAR
