BEGIN:VCALENDAR
VERSION:2.0
PRODID:-//ChamberMaster//Event Calendar 2.0//EN
METHOD:PUBLISH
X-PUBLISHED-TTL:P3D
REFRESH-INTERVAL:P3D
CALSCALE:GREGORIAN
BEGIN:VEVENT
DTSTART:20120518T153000Z
DTEND:20120518T170000Z
X-MICROSOFT-CDO-ALLDAYEVENT:FALSE
SUMMARY:Friday Focus - State of the City
DESCRIPTION:
X-ALT-DESC;FMTTYPE=text/html:
LOCATION:Country Club of Ashland
UID:e.1651.206
SEQUENCE:3
DTSTAMP:20260424T070740Z
URL:https://members.ashlandoh.com/events/details/friday-focus-state-of-the-city-05-18-2012-206
END:VEVENT

END:VCALENDAR
