BEGIN:VCALENDAR
VERSION:2.0
PRODID:-//ChamberMaster//Event Calendar 2.0//EN
METHOD:PUBLISH
X-PUBLISHED-TTL:P3D
REFRESH-INTERVAL:P3D
CALSCALE:GREGORIAN
BEGIN:VEVENT
DTSTART:20160513T153000Z
DTEND:20160513T170000Z
X-MICROSOFT-CDO-ALLDAYEVENT:FALSE
SUMMARY:Friday Focus - State of the City 5-13-16
DESCRIPTION:FRIDAY FOCUS LUNCHEON - SPEAKER SERIES    \n\nDesigned to focus on specific topics relevant to business or provide updates that are important to the community.\n\n\n\nTOPIC: State of the City Address\n\nSPEAKER: Mayor Glen Stewart\n\nTIME: 11:30 am - 1:00 pm\n\nPLACE: Salvation Army Kroc Center\n\nSPONSOR: Spreng - Smith Insurance Agency\n\nCOST: $20 pp
X-ALT-DESC;FMTTYPE=text/html:<strong>FRIDAY FOCUS LUNCHEON - SPEAKER SERIES&nbsp\;&nbsp\;&nbsp\;&nbsp\;</strong><br />\nDesigned to focus on specific topics relevant to business or provide updates that are important to the community.<br />\n<br />\n<strong>TOPIC: </strong>State of the City Address<br />\n<strong>SPEAKER:</strong> Mayor Glen Stewart<br />\n<strong>TIME:</strong> 11:30 am - 1:00 pm<br />\n<strong>PLACE:</strong> Salvation Army Kroc Center<br />\n<strong>SPONSOR:</strong> Spreng - Smith Insurance Agency<br />\n<strong>COST: </strong>$20 pp
LOCATION:Salvation Army Kroc Center 527 E Liberty St. Ashland OH 44805
UID:e.1651.2514
SEQUENCE:3
DTSTAMP:20260420T205602Z
URL:https://members.ashlandoh.com/events/details/friday-focus-state-of-the-city-5-13-16-05-13-2016-2514
END:VEVENT

END:VCALENDAR
