BEGIN:VCALENDAR
VERSION:2.0
PRODID:-//ChamberMaster//Event Calendar 2.0//EN
METHOD:PUBLISH
X-PUBLISHED-TTL:P3D
REFRESH-INTERVAL:P3D
CALSCALE:GREGORIAN
BEGIN:VEVENT
DTSTART:20121012T153000Z
DTEND:20121012T173000Z
X-MICROSOFT-CDO-ALLDAYEVENT:FALSE
SUMMARY:Friday Focus - State of the Elections 10/12/12
DESCRIPTION:
X-ALT-DESC;FMTTYPE=text/html:
LOCATION:Pump House Ministries
UID:e.1651.239
SEQUENCE:3
DTSTAMP:20260423T221040Z
URL:https://members.ashlandoh.com/events/details/friday-focus-state-of-the-elections-10-12-12-10-12-2012-239
END:VEVENT

END:VCALENDAR
