BEGIN:VCALENDAR
VERSION:2.0
PRODID:-//ChamberMaster//Event Calendar 2.0//EN
METHOD:PUBLISH
X-PUBLISHED-TTL:P3D
REFRESH-INTERVAL:P3D
CALSCALE:GREGORIAN
BEGIN:VEVENT
DTSTART:20120810T153000Z
DTEND:20120810T180000Z
X-MICROSOFT-CDO-ALLDAYEVENT:FALSE
SUMMARY:Friday Focus - State of the Nation
DESCRIPTION:
X-ALT-DESC;FMTTYPE=text/html:
LOCATION:Ashland University
UID:e.1651.213
SEQUENCE:3
DTSTAMP:20260424T013547Z
URL:https://members.ashlandoh.com/events/details/friday-focus-state-of-the-nation-08-10-2012-213
END:VEVENT

END:VCALENDAR
