BEGIN:VCALENDAR
VERSION:2.0
PRODID:-//ChamberMaster//Event Calendar 2.0//EN
METHOD:PUBLISH
X-PUBLISHED-TTL:P3D
REFRESH-INTERVAL:P3D
CALSCALE:GREGORIAN
BEGIN:VEVENT
DTSTART:20130802T153000Z
DTEND:20130802T170000Z
X-MICROSOFT-CDO-ALLDAYEVENT:FALSE
SUMMARY:Friday Focus - State of the Nation 8-2-13
DESCRIPTION:Topic: State of the Nation Address\n\n	Yes\, the correct date is Friday\, August 2\n\n	\n\n	Speaker: \n\n	Beth Thames\, Ohio Deputy State Director - Senator Sherrod Brown's Office
X-ALT-DESC;FMTTYPE=text/html:<p>\n	<span style="font-size: 12px\;"><span style="font-family: arial\;"><strong><span style="font-size: 14px\;">Topic: State of the Nation Address</span></strong><br />\n	Yes\, the correct date is Friday\, August 2<br />\n	<br />\n	<strong>Speaker: </strong></span></span></p>\n<p>\n	<span style="font-size: 12px\;"><span style="font-family: arial\;"><em><span style="color: rgb(31\, 73\, 125)\;"><span style="font-size: 14px\;">Beth Thames\, Ohio Deputy State Director - Senator Sherrod Brown&#39\;s Office</span></span></em></span></span></p>\n
LOCATION:Salvation Army Kroc Center 527 E Liberty St.\, Ashland
UID:e.1651.623
SEQUENCE:3
DTSTAMP:20260423T070328Z
URL:https://members.ashlandoh.com/events/details/friday-focus-state-of-the-nation-8-2-13-08-02-2013-623
END:VEVENT

END:VCALENDAR
