BEGIN:VCALENDAR
VERSION:2.0
PRODID:-//ChamberMaster//Event Calendar 2.0//EN
METHOD:PUBLISH
X-PUBLISHED-TTL:P3D
REFRESH-INTERVAL:P3D
CALSCALE:GREGORIAN
BEGIN:VEVENT
DTSTART:20141212T163000Z
DTEND:20141212T180000Z
X-MICROSOFT-CDO-ALLDAYEVENT:FALSE
SUMMARY:Friday Focus - State of the State 12-12-14
DESCRIPTION:FRIDAY FOCUS: STATE OF THE STATE\n\nNEW! Speaker: Congressman Bob Gibbs\n\nCome and receive updates on current initiatives and plans for 2015.\n\n\n\nNOTE: Lt. Governor Mary Taylor has been called away to State business and Congressman Bob Gibbs has graciously stepped in as our speaker for this informative event. We look forward to seeing you there!
X-ALT-DESC;FMTTYPE=text/html:<strong>FRIDAY FOCUS: STATE OF THE STATE</strong><br />\n<span style="color:#800000\;"><strong>NEW! Speaker: Congressman Bob Gibbs</strong></span><br />\n<em>Come and receive updates on current initiatives and plans for 2015.</em><br />\n<br />\nNOTE: Lt. Governor Mary Taylor has been called away to State business and Congressman Bob Gibbs has graciously stepped in as our speaker for this informative event. We look forward to seeing you there!<br />\n&nbsp\;
LOCATION:Salvation Army Kroc Center 527 E. Liberty St.\, Ashland\, OH 44805
UID:e.1651.749
SEQUENCE:3
DTSTAMP:20260422T044512Z
URL:https://members.ashlandoh.com/events/details/friday-focus-state-of-the-state-12-12-14-12-12-2014-749
END:VEVENT

END:VCALENDAR
