BEGIN:VCALENDAR
VERSION:2.0
PRODID:-//ChamberMaster//Event Calendar 2.0//EN
METHOD:PUBLISH
X-PUBLISHED-TTL:P3D
REFRESH-INTERVAL:P3D
CALSCALE:GREGORIAN
BEGIN:VEVENT
DTSTART:20131206T163000Z
DTEND:20131206T180000Z
X-MICROSOFT-CDO-ALLDAYEVENT:FALSE
SUMMARY:Friday Focus: State of the State 12-6-13
DESCRIPTION:State of the State Address\n\nSpeaker: Senator Larry Obhof - Ohio
X-ALT-DESC;FMTTYPE=text/html:<strong>State of the State Address</strong><br />\n<span style="color:#b22222\;"><em>Speaker: Senator Larry Obhof - Ohio</em></span>
LOCATION:Ashland University Convocation Center - Faculty Room
UID:e.1651.871
SEQUENCE:3
DTSTAMP:20260422T225612Z
URL:https://members.ashlandoh.com/events/details/friday-focus-state-of-the-state-12-6-13-12-06-2013-871
END:VEVENT

END:VCALENDAR
